BEGIN:VCALENDAR
VERSION:2.0
PRODID:icalendar-ruby
CALSCALE:GREGORIAN
X-WR-TIMEZONE:Europe/Helsinki
BEGIN:VTIMEZONE
TZID:Europe/Helsinki
BEGIN:DAYLIGHT
DTSTART:20260329T040000
TZOFFSETFROM:+0200
TZOFFSETTO:+0300
RRULE:FREQ=YEARLY;BYDAY=-1SU;BYMONTH=3
TZNAME:EEST
END:DAYLIGHT
BEGIN:STANDARD
DTSTART:20261025T030000
TZOFFSETFROM:+0300
TZOFFSETTO:+0200
RRULE:FREQ=YEARLY;BYDAY=-1SU;BYMONTH=10
TZNAME:EET
END:STANDARD
END:VTIMEZONE
BEGIN:VEVENT
DTSTAMP:20260423T124008
UID:hnmky.myclub.fi-8881374
DTSTART;TZID=Europe/Helsinki:20260531T133000
DTEND;TZID=Europe/Helsinki:20260531T143000
DESCRIPTION:Kausimaksulaskutus 2014-2017 syntyneet\n Koripallon kausimaksu 
 laskutetaan kymmenessä erässä\, elokuusta toukokuuhun. Laskutus tapahtu
 u myClubin kautta ja lasku lähetetään kuukausittain joko sähköpostits
 e tai verkkolaskuna.\n Mikäli lopetat harrastuksen kesken kauden\, lopett
 amisesta tulee aina tehdä ilmoitus  Kun olet ilmoittanut lopettamisesta\,
  irtisanomisaika on aina täysi kalenterikuukausi eli veloitamme vielä se
 uraavan kuukauden toimintamaksun\, jonka aikana pelaaja voi kädä harjoit
 uksissa.\nMyös pelaajan aikaisemmat avoinna olevat laskut ovat aiheellisi
 a ja ne tulee maksaa ennen.\nLOPETTAMINEN | Helsingin NMKY\n \nHUOM!\nKäy
 tämme Visma Amilin maksuvalvontapalvelua.\nMuistutus- ja perintäkulut se
 kä korot peritään velalliselta.\nMuista käyttää viitenumeroa maksaes
 sasi.\n \nPeliasupantti\n Kaikki seuran junioripelaajat pelaavat koripallo
 liiton sarjaottelut seuran osoittamalla ja omistamalla peliasulla\, jonka 
 saa käyttöönsä peliasupanttia vastaan. Peliasupantti: 90 € veloiteta
 an pelaajan ensimmäisellä kausimaksulaskulla\, se laskutetaan kaikilta j
 unioripelaajilta (pois lukien 2019–2020 syntyneet). Peliasupantti makset
 aan ainoastaan kerran ja se palautetaan pelaajalle käyttökelpoista pelia
 sua vastaan. Peliasupantti hyvitetään pelaajan avoimelle laskulle lopett
 aessa. Peliasut ovat Helsingin NMKY:n omaisuutta ja pelaaja saa tarvittaes
 sa itselleen sopivan kokoisen peliasun käyttöönsä. Peliasuja käytetä
 än ainoastaan HNMKY:n ottelutapahtumissa.\n \nLisenssi\nJokaisella Koripa
 lloliiton virallisia pelejä pelaavalla pelaajalla tulee olla voimassa ole
 va lisenssi.\n \nVakuutus Kausimaksu ei sisällä vakuutusta! Mikäli pela
 ajalla on jo olemassa vakuutus\, niin tarkistakaa miten vakuutus kattaa ki
 lpa- ja urheilutoiminnan harjoituksissa ja peleissä. Omien vakuutusten ka
 ttavuuden varmistaminen on suositeltavaa\, jottei ikäviä vakuutuksettomi
 a tilanteita pääse syntymään.\n \n \n \n \nSeason fee invoicing for th
 ose born between 2014-2017\nThe basketball season fee is billed in ten ins
 tallments\, from August to May. Billing is done via myClub and the invoice
  is sent monthly either by email or as an online invoice.\nIf you stop par
 ticipating in the activity during the season\, you must always notify us o
 f the termination. Once you have notified us of the termination\, the noti
 ce period is always a full calendar month\, meaning we will still charge t
 he activity fee for the following month during which the player can attend
  practices.\nAny previously outstanding invoices for the player are also d
 ue and must be paid beforehand.\nNOTE!\nWe use Visma Amili's payment monit
 oring service. Reminder and collection costs as well as interest will be c
 harged to the debtor. Remember to use the reference number when making the
  payment.\nThe jersey deposit\n All junior players in the club play basket
 ball league matches in jerseys provided and owned by the club\, which can 
 be obtained in exchange for a jersey deposit. The jersey deposit of €90 
 will be charged on the player's first season fee invoice and will be bille
 d to all junior players (excluding those born in 2019-2020). The jersey de
 posit is paid only once and is refunded to the player in exchange for a us
 able jersey. The jersey deposit will be credited to the player's open invo
 ice upon cessation. The jerseys are the property of Helsinki NMKY\, and th
 e player will be provided with a suitable size jersey if needed. Jerseys a
 re only used at HNMKY's match events.\nLicense\nEvery player participating
  in official games of the Basketball Federation must have a valid license.
 \nInsurance\nThe seasonal fee does not include insurance! If the player al
 ready has insurance\, please check how the insurance covers competitive an
 d sports activities during practices and games. It is advisable to ensure 
 the coverage of your own insurances to avoid any unpleasant situations\n\n
 https://hnmky.myclub.fi/flow/events/8881374
LOCATION:-\, 
SEQUENCE:0
SUMMARY:HNMKY Pojat 2016 Pakila: HNMKY Pojat 2016 Pakila- Uuden pelaajan il
 moittautuminen 2025-2026
URL;VALUE=URI:https://hnmky.myclub.fi/flow/events/8881374
END:VEVENT
END:VCALENDAR
